BEGIN:VCALENDAR
VERSION:2.0
PRODID:-//WSGR - ECPv6.11.2//NONSGML v1.0//EN
CALSCALE:GREGORIAN
METHOD:PUBLISH
X-WR-CALNAME:WSGR
X-ORIGINAL-URL:https://wsgr.de
X-WR-CALDESC:Veranstaltungen für WSGR
REFRESH-INTERVAL;VALUE=DURATION:PT1H
X-Robots-Tag:noindex
X-PUBLISHED-TTL:PT1H
BEGIN:VTIMEZONE
TZID:Europe/Paris
BEGIN:DAYLIGHT
TZOFFSETFROM:+0100
TZOFFSETTO:+0200
TZNAME:CEST
DTSTART:20210328T010000
END:DAYLIGHT
BEGIN:STANDARD
TZOFFSETFROM:+0200
TZOFFSETTO:+0100
TZNAME:CET
DTSTART:20211031T010000
END:STANDARD
END:VTIMEZONE
BEGIN:VEVENT
DTSTART;TZID=Europe/Paris:20210703T100000
DTEND;TZID=Europe/Paris:20210704T160000
DTSTAMP:20260425T054433
CREATED:20210603T194022Z
LAST-MODIFIED:20210603T194022Z
UID:1901-1625306400-1625414400@wsgr.de
SUMMARY:Jugendsegelwochenende III
DESCRIPTION:
URL:https://wsgr.de/event/jugendsegelwochenende-iii/
LOCATION:WSGR\, Am Segelhafen 1\, Enderndorf\, Bayern\, 91174\, Deutschland
ORGANIZER;CN="Jugend Wassersportgemeinschaft Rangau e.V.":MAILTO:jugend@wsgr.de
END:VEVENT
BEGIN:VEVENT
DTSTART;TZID=Europe/Paris:20210717T170000
DTEND;TZID=Europe/Paris:20210717T180000
DTSTAMP:20260425T054433
CREATED:20210619T100003Z
LAST-MODIFIED:20210619T181330Z
UID:1915-1626541200-1626544800@wsgr.de
SUMMARY:Hauptversammlung 17. Juli 17 Uhr
DESCRIPTION:Unsere Hauptversammlung wird am 17. Juli 2021 um 17 Uhr in Enderndorf stattfinden.
URL:https://wsgr.de/event/hauptversammlung-03-juli-17-uhr/
LOCATION:WSGR\, Am Segelhafen 1\, Enderndorf\, Bayern\, 91174\, Deutschland
ORGANIZER;CN="Wassersportgemeinschaft Rangau e.V.":MAILTO:info@wsgr.de
END:VEVENT
BEGIN:VEVENT
DTSTART;TZID=Europe/Paris:20210724T100000
DTEND;TZID=Europe/Paris:20210725T160000
DTSTAMP:20260425T054433
CREATED:20210603T194122Z
LAST-MODIFIED:20210603T194122Z
UID:1903-1627120800-1627228800@wsgr.de
SUMMARY:Jugendsegelwochenende IV
DESCRIPTION:
URL:https://wsgr.de/event/jugendsegelwochenende-iv/
LOCATION:WSGR\, Am Segelhafen 1\, Enderndorf\, Bayern\, 91174\, Deutschland
ORGANIZER;CN="Jugend Wassersportgemeinschaft Rangau e.V.":MAILTO:jugend@wsgr.de
END:VEVENT
END:VCALENDAR