BEGIN:VCALENDAR
VERSION:2.0
PRODID:-//WSGR - ECPv6.11.2//NONSGML v1.0//EN
CALSCALE:GREGORIAN
METHOD:PUBLISH
X-ORIGINAL-URL:https://wsgr.de
X-WR-CALDESC:Veranstaltungen für WSGR
REFRESH-INTERVAL;VALUE=DURATION:PT1H
X-Robots-Tag:noindex
X-PUBLISHED-TTL:PT1H
BEGIN:VTIMEZONE
TZID:Europe/Paris
BEGIN:DAYLIGHT
TZOFFSETFROM:+0100
TZOFFSETTO:+0200
TZNAME:CEST
DTSTART:20220327T010000
END:DAYLIGHT
BEGIN:STANDARD
TZOFFSETFROM:+0200
TZOFFSETTO:+0100
TZNAME:CET
DTSTART:20221030T010000
END:STANDARD
END:VTIMEZONE
BEGIN:VEVENT
DTSTART;VALUE=DATE:20220604
DTEND;VALUE=DATE:20220612
DTSTAMP:20260424T152241
CREATED:20220412T173120Z
LAST-MODIFIED:20220412T173120Z
UID:1955-1654300800-1654991999@wsgr.de
SUMMARY:Jugendsegelwoche
DESCRIPTION:
URL:https://wsgr.de/event/jugendsegelwoche/
LOCATION:WSGR\, Am Segelhafen 1\, Enderndorf\, Bayern\, 91174\, Deutschland
ORGANIZER;CN="Jugend Wassersportgemeinschaft Rangau e.V.":MAILTO:jugend@wsgr.de
END:VEVENT
BEGIN:VEVENT
DTSTART;VALUE=DATE:20220611
DTEND;VALUE=DATE:20220613
DTSTAMP:20260424T152241
CREATED:20220412T173158Z
LAST-MODIFIED:20220412T173158Z
UID:1957-1654905600-1655078399@wsgr.de
SUMMARY:Trainingsregatta Laser 2
DESCRIPTION:
URL:https://wsgr.de/event/trainingsregatta-laser-2/
LOCATION:Bayern
END:VEVENT
BEGIN:VEVENT
DTSTART;VALUE=DATE:20220625
DTEND;VALUE=DATE:20220627
DTSTAMP:20260424T152241
CREATED:20220412T172855Z
LAST-MODIFIED:20220412T172855Z
UID:1947-1656115200-1656287999@wsgr.de
SUMMARY:Jugendsegelwochenende
DESCRIPTION:
URL:https://wsgr.de/event/jugendsegelwochenende-2/
LOCATION:WSGR\, Am Segelhafen 1\, Enderndorf\, Bayern\, 91174\, Deutschland
ORGANIZER;CN="Jugend Wassersportgemeinschaft Rangau e.V.":MAILTO:jugend@wsgr.de
END:VEVENT
END:VCALENDAR